0.500000000000000
0.000000000000000
0.000000000000000
-0.500000000000000
1504000.250000000000000
566999.750000000000000
