0.500000000000000
0.000000000000000
0.000000000000000
-0.500000000000000
1348000.250000000000000
606999.750000000000000
