0.500000000000000
0.000000000000000
0.000000000000000
-0.500000000000000
1384000.250000000000000
602999.750000000000000
