0.500000000000000
0.000000000000000
0.000000000000000
-0.500000000000000
1336000.250000000000000
650999.750000000000000
