0.500000000000000
0.000000000000000
0.000000000000000
-0.500000000000000
1354000.250000000000000
618999.750000000000000
