0.500000000000000
0.000000000000000
0.000000000000000
-0.500000000000000
1366000.250000000000000
698999.750000000000000
