0.500000000000000
0.000000000000000
0.000000000000000
-0.500000000000000
1378000.250000000000000
610999.750000000000000
