0.500000000000000
0.000000000000000
0.000000000000000
-0.500000000000000
1360000.250000000000000
710999.750000000000000
