0.500000000000000
0.000000000000000
0.000000000000000
-0.500000000000000
1498000.250000000000000
582999.750000000000000
