0.500000000000000
0.000000000000000
0.000000000000000
-0.500000000000000
1426000.250000000000000
686999.750000000000000
