0.500000000000000
0.000000000000000
0.000000000000000
-0.500000000000000
1420000.250000000000000
682999.750000000000000
