0.500000000000000
0.000000000000000
0.000000000000000
-0.500000000000000
1438000.250000000000000
622999.750000000000000
