0.500000000000000
0.000000000000000
0.000000000000000
-0.500000000000000
1432000.250000000000000
678999.750000000000000
