0.500000000000000
0.000000000000000
0.000000000000000
-0.500000000000000
1462000.250000000000000
674999.750000000000000
