0.500000000000000
0.000000000000000
0.000000000000000
-0.500000000000000
1486000.250000000000000
630999.750000000000000
