0.500000000000000
0.000000000000000
0.000000000000000
-0.500000000000000
1414000.250000000000000
706999.750000000000000
